BEGIN:VCALENDAR
VERSION:2.0
PRODID:-//https://www.harrow.ac.uk///NONSGML kigkonsult.se iCalcreator 2.10.15//
METHOD:PUBLISH
BEGIN:VEVENT
UID:20260423T171554UTC-4382IMvlLR@https://www.harrow.ac.uk/
DTSTAMP:20260423T171554Z
DESCRIPTION:Harrow College is proud to deliver its Football Academy for 16-
 18 year olds with&nbsp\;Queens Park Rangers FC.\nWe provide talented young
  sports people with the opportunity to develop their prospects of a career
  in football while continuing with their education.\nRegister for our next
  trial\nWednesday 10 April 2024\, 12pm - 2pmRegister by clicking here.\nTr
 ials take place at:Bannister Sports Centre\, Uxbridge Road\, Harrow\, HA3 
 6SW.\n&nbsp\;Please bring the following things with you to the trial:\n\nF
 ootwear suitable for 3g Astro Turf\nTrainers\nFull sports kit suitable for
  an outdoor session\nPlenty of fluids\nShower toiletries and towel\nShin g
 uards\n\nPlease report for the trial 15 minutes before the trial start tim
 e.\nAbout the Harrow College and QPR Football Academy\nQualified coaches f
 rom QPR will lead two coaching sessions a week and prepare students for th
 eir weekly matches&nbsp\;against other academy sides throughout the season
 .\nThe programme provides the most up to date\, comprehensive and high qua
 lity training for 16-18 year old males and females wishing to break into t
 he football industry. Study and qualifications gained can also lead to opp
 ortunities in the following fields:&nbsp\;\n\nProfessional sports person\n
 Coaching\nSports Therapy\nFitness Industry\nLeisure Management\nTeaching\n
 Higher Education\nOverseas Scholarships.\n\nOur Football Academy provides 
 you with a programme of football training while you work on a full-time co
 urse of academic study. You will also participate in games in the British 
 Colleges Sport League\, ECFA London.\nHighlights from previous years inclu
 de:\n\nOutdoor adventure activities including high ropes\, caving and wall
  climbing\nSports Psychology talk\nCareer sessions with guest speakers fro
 m UCAS\nWembley Stadium open days including match tickets&nbsp\;\nInspirat
 ional guest speakers&nbsp\;\nEmployment support\nWork experience sessions 
 and an insight into working life\nSky Academy Careers Lab&nbsp\;including 
 tours of Sky Studios - Sky's state of the art production facility.\n\nChec
 k out our Sports Courses\nClick this link&nbsp\;to find out more about our
  range of sports courses.\nOur Football Academy course is the&nbsp\;OCR Le
 vel 2 Cambridge Technical Diploma in Sport - Football Academy&nbsp\;This c
 ourse is for males and females with a proven playing ability selected at t
 rials\, who seek a first class education and hold 4 GCSE at grade 4/5 pref
 erably including English and/or maths or a Merit on a relevant level 1 qua
 lification. Places are also subject to a successful football trial.\, so b
 ooks yours via this link. https://www.harrow.ac.uk/news-events/events/even
 t/48-football-academy-trials-with-qpr-10-april
DTSTART:20240410T110000Z
DTEND:20240410T130000Z
LOCATION:Bannisters Sports Centre\, Harrow\, HA3 6SW ()
SUMMARY:Football Academy Trials with QPR  |  10 April 
URL:https://www.harrow.ac.uk/news-events/events/event/48-football-academy-t
 rials-with-qpr-10-april
END:VEVENT
END:VCALENDAR
